BEGIN:VCALENDAR
VERSION:2.0
PRODID:-//TONDO Akademia Kreatywności - ECPv6.8.3//NONSGML v1.0//EN
CALSCALE:GREGORIAN
METHOD:PUBLISH
X-WR-CALNAME:TONDO Akademia Kreatywności
X-ORIGINAL-URL:https://www.tondoakademia.pl
X-WR-CALDESC:Events for TONDO Akademia Kreatywności
REFRESH-INTERVAL;VALUE=DURATION:PT1H
X-Robots-Tag:noindex
X-PUBLISHED-TTL:PT1H
BEGIN:VTIMEZONE
TZID:UTC
BEGIN:STANDARD
TZOFFSETFROM:+0000
TZOFFSETTO:+0000
TZNAME:UTC
DTSTART:20230101T000000
END:STANDARD
END:VTIMEZONE
BEGIN:VEVENT
DTSTART;TZID=UTC:20240224T150000
DTEND;TZID=UTC:20240224T180000
DTSTAMP:20260420T133111
CREATED:20240110T145315Z
LAST-MODIFIED:20240110T145315Z
UID:5386-1708786800-1708797600@www.tondoakademia.pl
SUMMARY:Malowanie i druk stemplowy na torbach
DESCRIPTION:
URL:https://www.tondoakademia.pl/event/malowanie-i-druk-stemplowy-na-torbach/
CATEGORIES:Dorośli,Młodzież
ATTACH;FMTTYPE=image/png:https://www.tondoakademia.pl/wp-content/uploads/2024/01/kafelek_torby_malowanie-i-druk-stemplowy.png
END:VEVENT
BEGIN:VEVENT
DTSTART;TZID=UTC:20240217T150000
DTEND;TZID=UTC:20240217T180000
DTSTAMP:20260420T133111
CREATED:20240113T140536Z
LAST-MODIFIED:20240113T140643Z
UID:5475-1708182000-1708192800@www.tondoakademia.pl
SUMMARY:Warsztaty Malarskie - Portrety Zwierząt
DESCRIPTION:
URL:https://www.tondoakademia.pl/event/warsztaty-malarskie-portrety-zwierzat/
CATEGORIES:Dorośli
ATTACH;FMTTYPE=image/png:https://www.tondoakademia.pl/wp-content/uploads/2024/01/kafelek_portrety_zwierzat.png
END:VEVENT
BEGIN:VEVENT
DTSTART;TZID=UTC:20231205T180000
DTEND;TZID=UTC:20231212T200000
DTSTAMP:20260420T133111
CREATED:20231111T120310Z
LAST-MODIFIED:20231113T184039Z
UID:4847-1701799200-1702411200@www.tondoakademia.pl
SUMMARY:Warsztaty Ceramiczne - "Świąteczne ozdoby"
DESCRIPTION:
URL:https://www.tondoakademia.pl/event/warsztaty-ceramiczne-swiateczne-ozdoby/
CATEGORIES:Dorośli,Młodzież
ATTACH;FMTTYPE=image/png:https://www.tondoakademia.pl/wp-content/uploads/2023/11/swiateczne-ozdoby-kafelek-1.png
END:VEVENT
BEGIN:VEVENT
DTSTART;TZID=UTC:20231028T103000
DTEND;TZID=UTC:20231028T130000
DTSTAMP:20260420T133111
CREATED:20231019T120435Z
LAST-MODIFIED:20231027T145249Z
UID:4487-1698489000-1698498000@www.tondoakademia.pl
SUMMARY:Makrama na butelkę
DESCRIPTION:
URL:https://www.tondoakademia.pl/event/makrama-na-butelke/
LOCATION:TONDO Akademia Kreatywności\, ul. Wysoka 12/17\, Poznań\, 61-850\, Poland
CATEGORIES:Dorośli,Młodzież
ATTACH;FMTTYPE=image/png:https://www.tondoakademia.pl/wp-content/uploads/2023/07/Backup_of_obrazki_do_warsztatow.png
END:VEVENT
END:VCALENDAR