BEGIN:VCALENDAR
VERSION:2.0
PRODID:-//TONDO Akademia Kreatywności - ECPv6.8.3//NONSGML v1.0//EN
CALSCALE:GREGORIAN
METHOD:PUBLISH
X-WR-CALNAME:TONDO Akademia Kreatywności
X-ORIGINAL-URL:https://www.tondoakademia.pl
X-WR-CALDESC:Events for TONDO Akademia Kreatywności
REFRESH-INTERVAL;VALUE=DURATION:PT1H
X-Robots-Tag:noindex
X-PUBLISHED-TTL:PT1H
BEGIN:VTIMEZONE
TZID:UTC
BEGIN:STANDARD
TZOFFSETFROM:+0000
TZOFFSETTO:+0000
TZNAME:UTC
DTSTART:20250101T000000
END:STANDARD
END:VTIMEZONE
BEGIN:VEVENT
DTSTART;TZID=UTC:20250628T180000
DTEND;TZID=UTC:20250628T210000
DTSTAMP:20260419T173203
CREATED:20231019T140844Z
LAST-MODIFIED:20250515T075143Z
UID:4499-1751133600-1751144400@www.tondoakademia.pl
SUMMARY:Malowanie przy winie
DESCRIPTION:
URL:https://www.tondoakademia.pl/event/malowanie-przy-winie/
CATEGORIES:Dorośli
ATTACH;FMTTYPE=image/png:https://www.tondoakademia.pl/wp-content/uploads/2023/11/kafelek-2.png
END:VEVENT
END:VCALENDAR